BEGIN:VCALENDAR
PRODID:PlannerXE123
VERSION:2.0
CALSCALE:GREGORIAN
METHOD:PUBLISH
BEGIN:VEVENT
DTSTART:20190130T110000Z
DTEND:20190130T120000Z
DTSTAMP:20260424T125449Z
UID:(jymun3.dothome.co.kr-7773)-20260424-215449
CREATED:20260424T125449Z
DESCRIPTION:ㅇㅇ\n\n<a href="http://jymun3.dothome.co.kr/xe/index.php?document_srl=7773&mid=board_CHFR43">원본일정</a>
LOCATION:
SEQUENCE:1
STATUS:CONFIRMED
SUMMARY:24:00 furnace 1,2 kim
TRANSP:TRANSPARENT
END:VEVENT
END:VCALENDAR
