BEGIN:VCALENDAR
PRODID:PlannerXE123
VERSION:2.0
CALSCALE:GREGORIAN
METHOD:PUBLISH
BEGIN:VEVENT
DTSTART:20190130T010000Z
DTEND:20190130T110000Z
DTSTAMP:20260423T050344Z
UID:(jymun3.dothome.co.kr-7769)-20260423-140344
CREATED:20260423T050344Z
DESCRIPTION:.\n\n<a href="http://jymun3.dothome.co.kr/xe/index.php?document_srl=7769&mid=board_CHFR43">원본일정</a>
LOCATION:
SEQUENCE:1
STATUS:CONFIRMED
SUMMARY:Gaurav (Furnace 2)
TRANSP:TRANSPARENT
END:VEVENT
END:VCALENDAR
