BEGIN:VCALENDAR
PRODID:PlannerXE123
VERSION:2.0
CALSCALE:GREGORIAN
METHOD:PUBLISH
BEGIN:VEVENT
DTSTART:20190129T090000Z
DTEND:20190129T110000Z
DTSTAMP:20260423T111349Z
UID:(jymun3.dothome.co.kr-7637)-20260423-201349
CREATED:20260423T111349Z
DESCRIPTION:111\n\n<a href="http://jymun3.dothome.co.kr/xe/index.php?document_srl=7637&mid=board_CHFR43">원본일정</a>
LOCATION:
SEQUENCE:1
STATUS:CONFIRMED
SUMMARY:glv-meihua
TRANSP:TRANSPARENT
END:VEVENT
END:VCALENDAR
