BEGIN:VCALENDAR
PRODID:PlannerXE123
VERSION:2.0
CALSCALE:GREGORIAN
METHOD:PUBLISH
BEGIN:VEVENT
DTSTART:20190123T020000Z
DTEND:20190123T023000Z
DTSTAMP:20260424T093316Z
UID:(jymun3.dothome.co.kr-2060)-20260424-183316
CREATED:20260424T093316Z
DESCRIPTION:ㅇ\n\n<a href="http://jymun3.dothome.co.kr/xe/index.php?document_srl=2060&mid=board_CHFR43">원본일정</a>
LOCATION:
SEQUENCE:1
STATUS:CONFIRMED
SUMMARY:~ 11:30, Glv, Seonghun
TRANSP:TRANSPARENT
END:VEVENT
END:VCALENDAR
