BEGIN:VCALENDAR
PRODID:PlannerXE123
VERSION:2.0
CALSCALE:GREGORIAN
METHOD:PUBLISH
BEGIN:VEVENT
DTSTART:20190226T080000Z
DTEND:20190226T100000Z
DTSTAMP:20260424T110259Z
UID:(jymun3.dothome.co.kr-184907)-20260424-200259
CREATED:20260424T110259Z
DESCRIPTION:.\n\n<a href="http://jymun3.dothome.co.kr/xe/index.php?document_srl=184907&mid=board_CHFR43">원본일정</a>
LOCATION:
SEQUENCE:1
STATUS:CONFIRMED
SUMMARY:-19:00 [To make electrode. Suhyun]
TRANSP:TRANSPARENT
END:VEVENT
END:VCALENDAR
