BEGIN:VCALENDAR
PRODID:PlannerXE123
VERSION:2.0
CALSCALE:GREGORIAN
METHOD:PUBLISH
BEGIN:VEVENT
DTSTART:20190126T080000Z
DTEND:20190126T110000Z
RRULE:FREQ=DAILY;UNTIL=20190131T145959Z
DTSTAMP:20260422T020516Z
UID:(jymun3.dothome.co.kr-1553)-20260422-110516
CREATED:20260422T020516Z
DESCRIPTION:111\n\n<a href="http://jymun3.dothome.co.kr/xe/index.php?document_srl=1553&mid=board_CHFR43">원본일정</a>
LOCATION:
SEQUENCE:1
STATUS:CONFIRMED
SUMMARY:IMP-MEIHUA-ch23
TRANSP:TRANSPARENT
END:VEVENT
END:VCALENDAR
