BEGIN:VCALENDAR
PRODID:PlannerXE123
VERSION:2.0
CALSCALE:GREGORIAN
METHOD:PUBLISH
BEGIN:VEVENT
DTSTART:20190201T080000Z
DTEND:20190201T090000Z
DTSTAMP:20260422T120006Z
UID:(jymun3.dothome.co.kr-15472)-20260422-210006
CREATED:20260422T120006Z
DESCRIPTION:ㅁㄴㅇㄹ\n\n<a href="http://jymun3.dothome.co.kr/xe/index.php?document_srl=15472&mid=board_CHFR43">원본일정</a>
LOCATION:
SEQUENCE:1
STATUS:CONFIRMED
SUMMARY:~18:00 glv / BH
TRANSP:TRANSPARENT
END:VEVENT
END:VCALENDAR
