BEGIN:VCALENDAR
PRODID:PlannerXE123
VERSION:2.0
CALSCALE:GREGORIAN
METHOD:PUBLISH
BEGIN:VEVENT
DTSTART:20190103T063000Z
DTEND:20190103T073000Z
DTSTAMP:20260424T093316Z
UID:(jymun3.dothome.co.kr-1429)-20260424-183316
CREATED:20260424T093316Z
DESCRIPTION:SAM\n\n<a href="http://jymun3.dothome.co.kr/xe/index.php?document_srl=1429&mid=board_CHFR43">원본일정</a>
LOCATION:
SEQUENCE:1
STATUS:CONFIRMED
SUMMARY:~16:30 Glv_Ho
TRANSP:TRANSPARENT
END:VEVENT
END:VCALENDAR
